BEGIN:VCALENDAR
VERSION:2.0
PRODID:-//Churches in Denver CO - ECPv6.15.20//NONSGML v1.0//EN
CALSCALE:GREGORIAN
METHOD:PUBLISH
X-ORIGINAL-URL:https://legacychapel.org
X-WR-CALDESC:Events for Churches in Denver CO
REFRESH-INTERVAL;VALUE=DURATION:PT1H
X-Robots-Tag:noindex
X-PUBLISHED-TTL:PT1H
BEGIN:VTIMEZONE
TZID:America/Denver
BEGIN:DAYLIGHT
TZOFFSETFROM:-0700
TZOFFSETTO:-0600
TZNAME:MDT
DTSTART:20220313T090000
END:DAYLIGHT
BEGIN:STANDARD
TZOFFSETFROM:-0600
TZOFFSETTO:-0700
TZNAME:MST
DTSTART:20221106T080000
END:STANDARD
BEGIN:DAYLIGHT
TZOFFSETFROM:-0700
TZOFFSETTO:-0600
TZNAME:MDT
DTSTART:20230312T090000
END:DAYLIGHT
BEGIN:STANDARD
TZOFFSETFROM:-0600
TZOFFSETTO:-0700
TZNAME:MST
DTSTART:20231105T080000
END:STANDARD
BEGIN:DAYLIGHT
TZOFFSETFROM:-0700
TZOFFSETTO:-0600
TZNAME:MDT
DTSTART:20240310T090000
END:DAYLIGHT
BEGIN:STANDARD
TZOFFSETFROM:-0600
TZOFFSETTO:-0700
TZNAME:MST
DTSTART:20241103T080000
END:STANDARD
END:VTIMEZONE
BEGIN:VEVENT
DTSTART;TZID=America/Denver:20230903T090000
DTEND;TZID=America/Denver:20230903T101500
DTSTAMP:20260421T040105
CREATED:20190305T001308Z
LAST-MODIFIED:20230909T024231Z
UID:10001103-1693731600-1693736100@legacychapel.org
SUMMARY:Sunday Service: 9am
DESCRIPTION:Join us on Sunday for our 9am Service!
URL:https://legacychapel.org/event/sunday-service-9am/2023-09-03/
CATEGORIES:Services
END:VEVENT
BEGIN:VEVENT
DTSTART;TZID=America/Denver:20230903T103000
DTEND;TZID=America/Denver:20230903T120000
DTSTAMP:20260421T040105
CREATED:20190329T193407Z
LAST-MODIFIED:20230909T024123Z
UID:10001414-1693737000-1693742400@legacychapel.org
SUMMARY:Sunday Service: 10:30
DESCRIPTION:Join us on Sunday for our 10:30 AM Service!
URL:https://legacychapel.org/event/sunday-service-1030/2023-09-03/
CATEGORIES:Services
END:VEVENT
BEGIN:VEVENT
DTSTART;TZID=America/Denver:20230909T083000
DTEND;TZID=America/Denver:20230909T103000
DTSTAMP:20260421T040105
CREATED:20230909T023432Z
LAST-MODIFIED:20230909T030044Z
UID:10002619-1694248200-1694255400@legacychapel.org
SUMMARY:Mama Bear's Play Date Group
DESCRIPTION:Meets Saturdays once a month \nhttps://legacychapel.churchcenter.com/groups/groups/mama-bear-play-date-group
URL:https://legacychapel.org/event/mama-bears-play-date-group/
CATEGORIES:Groups
ATTACH;FMTTYPE=image/png:https://legacychapel.org/wp-content/uploads/2022/08/6.png
END:VEVENT
BEGIN:VEVENT
DTSTART;TZID=America/Denver:20230910T090000
DTEND;TZID=America/Denver:20230910T101500
DTSTAMP:20260421T040105
CREATED:20190305T001308Z
LAST-MODIFIED:20230909T024231Z
UID:10001104-1694336400-1694340900@legacychapel.org
SUMMARY:Sunday Service: 9am
DESCRIPTION:Join us on Sunday for our 9am Service!
URL:https://legacychapel.org/event/sunday-service-9am/2023-09-10/
CATEGORIES:Services
END:VEVENT
BEGIN:VEVENT
DTSTART;TZID=America/Denver:20230910T103000
DTEND;TZID=America/Denver:20230910T120000
DTSTAMP:20260421T040105
CREATED:20190329T193407Z
LAST-MODIFIED:20230909T024123Z
UID:10001415-1694341800-1694347200@legacychapel.org
SUMMARY:Sunday Service: 10:30
DESCRIPTION:Join us on Sunday for our 10:30 AM Service!
URL:https://legacychapel.org/event/sunday-service-1030/2023-09-10/
CATEGORIES:Services
END:VEVENT
BEGIN:VEVENT
DTSTART;TZID=America/Denver:20230910T160000
DTEND;TZID=America/Denver:20230910T173000
DTSTAMP:20260421T040105
CREATED:20230909T025829Z
LAST-MODIFIED:20230909T025829Z
UID:10002934-1694361600-1694367000@legacychapel.org
SUMMARY:Castle Rock Sermon Based Group
DESCRIPTION:
URL:https://legacychapel.org/event/castle-rock-sermon-based-group/2023-09-10/
ATTACH;FMTTYPE=image/jpeg:https://legacychapel.org/wp-content/uploads/2023/09/medium_image-1661528522017.jpg
END:VEVENT
BEGIN:VEVENT
DTSTART;TZID=America/Denver:20230912T180000
DTEND;TZID=America/Denver:20230912T193000
DTSTAMP:20260421T040105
CREATED:20230909T023150Z
LAST-MODIFIED:20230909T023150Z
UID:10002612-1694541600-1694547000@legacychapel.org
SUMMARY:Ladies Bible Study
DESCRIPTION:https://legacychapel.churchcenter.com/groups/groups/ladies-bible-study
URL:https://legacychapel.org/event/ladies-bible-study/2023-09-12/
CATEGORIES:Bible Study
ATTACH;FMTTYPE=image/jpeg:https://legacychapel.org/wp-content/uploads/2023/09/medium_Exodus_Slide-1280x720-1.jpg
END:VEVENT
BEGIN:VEVENT
DTSTART;TZID=America/Denver:20230912T183000
DTEND;TZID=America/Denver:20230912T200000
DTSTAMP:20260421T040105
CREATED:20230909T025457Z
LAST-MODIFIED:20240827T220700Z
UID:10002900-1694543400-1694548800@legacychapel.org
SUMMARY:Littleton Sermon Based Group
DESCRIPTION:
URL:https://legacychapel.org/event/littleton-sermon-based-group/
ATTACH;FMTTYPE=image/jpeg:https://legacychapel.org/wp-content/uploads/2023/09/medium_image-1628749676883.jpg
END:VEVENT
BEGIN:VEVENT
DTSTART;TZID=America/Denver:20230914T113000
DTEND;TZID=America/Denver:20230914T130000
DTSTAMP:20260421T040105
CREATED:20230601T054801Z
LAST-MODIFIED:20230601T054801Z
UID:10002087-1694691000-1694696400@legacychapel.org
SUMMARY:Men's Lunch With Pastors
DESCRIPTION:Castle Rock \nEnglewood
URL:https://legacychapel.org/event/mens-lunch-with-pastors/2023-09-14/
ATTACH;FMTTYPE=image/png:https://legacychapel.org/wp-content/uploads/2022/08/Screen-Shot-2022-08-26-at-10.00.17-AM.png
END:VEVENT
BEGIN:VEVENT
DTSTART;TZID=America/Denver:20230916T120000
DTEND;TZID=America/Denver:20230916T130000
DTSTAMP:20260421T040105
CREATED:20230601T054336Z
LAST-MODIFIED:20240822T150308Z
UID:10003111-1694865600-1694869200@legacychapel.org
SUMMARY:Adopt-A-Block
DESCRIPTION:
URL:https://legacychapel.org/event/adopt-a-block/2023-09-16/
ATTACH;FMTTYPE=image/jpeg:https://legacychapel.org/wp-content/uploads/2023/05/Idlewild-Adopt-A-Block-logo-featured-1.jpg
END:VEVENT
BEGIN:VEVENT
DTSTART;TZID=America/Denver:20230917T090000
DTEND;TZID=America/Denver:20230917T101500
DTSTAMP:20260421T040105
CREATED:20190305T001308Z
LAST-MODIFIED:20230909T024231Z
UID:10001105-1694941200-1694945700@legacychapel.org
SUMMARY:Sunday Service: 9am
DESCRIPTION:Join us on Sunday for our 9am Service!
URL:https://legacychapel.org/event/sunday-service-9am/2023-09-17/
CATEGORIES:Services
END:VEVENT
BEGIN:VEVENT
DTSTART;TZID=America/Denver:20230917T103000
DTEND;TZID=America/Denver:20230917T120000
DTSTAMP:20260421T040105
CREATED:20190329T193407Z
LAST-MODIFIED:20230909T024123Z
UID:10001416-1694946600-1694952000@legacychapel.org
SUMMARY:Sunday Service: 10:30
DESCRIPTION:Join us on Sunday for our 10:30 AM Service!
URL:https://legacychapel.org/event/sunday-service-1030/2023-09-17/
CATEGORIES:Services
END:VEVENT
BEGIN:VEVENT
DTSTART;TZID=America/Denver:20230917T160000
DTEND;TZID=America/Denver:20230917T173000
DTSTAMP:20260421T040105
CREATED:20230909T030006Z
LAST-MODIFIED:20230909T030006Z
UID:10002941-1694966400-1694971800@legacychapel.org
SUMMARY:Centennial Sermon Based Group
DESCRIPTION:https://legacychapel.churchcenter.com/groups/groups/sermon-based-group-centennial
URL:https://legacychapel.org/event/centennial-sermon-based-group/2023-09-17/
ATTACH;FMTTYPE=image/jpeg:https://legacychapel.org/wp-content/uploads/2023/09/medium_image-1693326937892.jpg
END:VEVENT
BEGIN:VEVENT
DTSTART;TZID=America/Denver:20230921T180000
DTEND;TZID=America/Denver:20230921T193000
DTSTAMP:20260421T040105
CREATED:20230909T023822Z
LAST-MODIFIED:20230909T023822Z
UID:10002621-1695319200-1695324600@legacychapel.org
SUMMARY:Ladies Sermon Based Group & Prayer
DESCRIPTION:https://legacychapel.churchcenter.com/groups/groups/ladies-group-sermon-based-prayer
URL:https://legacychapel.org/event/ladies-sermon-based-group-prayer/
ATTACH;FMTTYPE=image/jpeg:https://legacychapel.org/wp-content/uploads/2023/09/medium_image-1693257408817.jpg
END:VEVENT
BEGIN:VEVENT
DTSTART;TZID=America/Denver:20230924T100000
DTEND;TZID=America/Denver:20230924T113000
DTSTAMP:20260421T040105
CREATED:20230909T024433Z
LAST-MODIFIED:20231207T181244Z
UID:10002640-1695549600-1695555000@legacychapel.org
SUMMARY:Sunday Service at 10:00AM
DESCRIPTION:Join us every Sunday at 10:00AM! \n 
URL:https://legacychapel.org/event/sunday-service-at-1000am/2023-09-24/
CATEGORIES:Services
ATTACH;FMTTYPE=image/jpeg:https://legacychapel.org/wp-content/uploads/2023/09/Legacy_Chapel-17-scaled.jpg
END:VEVENT
BEGIN:VEVENT
DTSTART;TZID=America/Denver:20230924T160000
DTEND;TZID=America/Denver:20230924T173000
DTSTAMP:20260421T040105
CREATED:20230909T025829Z
LAST-MODIFIED:20230909T025829Z
UID:10002935-1695571200-1695576600@legacychapel.org
SUMMARY:Castle Rock Sermon Based Group
DESCRIPTION:
URL:https://legacychapel.org/event/castle-rock-sermon-based-group/2023-09-24/
ATTACH;FMTTYPE=image/jpeg:https://legacychapel.org/wp-content/uploads/2023/09/medium_image-1661528522017.jpg
END:VEVENT
BEGIN:VEVENT
DTSTART;TZID=America/Denver:20230926T180000
DTEND;TZID=America/Denver:20230926T193000
DTSTAMP:20260421T040105
CREATED:20230909T023150Z
LAST-MODIFIED:20230909T023150Z
UID:10002613-1695751200-1695756600@legacychapel.org
SUMMARY:Ladies Bible Study
DESCRIPTION:https://legacychapel.churchcenter.com/groups/groups/ladies-bible-study
URL:https://legacychapel.org/event/ladies-bible-study/2023-09-26/
CATEGORIES:Bible Study
ATTACH;FMTTYPE=image/jpeg:https://legacychapel.org/wp-content/uploads/2023/09/medium_Exodus_Slide-1280x720-1.jpg
END:VEVENT
BEGIN:VEVENT
DTSTART;TZID=America/Denver:20230930T180000
DTEND;TZID=America/Denver:20230930T210000
DTSTAMP:20260421T040105
CREATED:20230909T022523Z
LAST-MODIFIED:20230909T022523Z
UID:10002548-1696096800-1696107600@legacychapel.org
SUMMARY:Adults Activity Group (Pindustry)
DESCRIPTION:https://legacychapel.churchcenter.com/groups/groups/adults-activity-group
URL:https://legacychapel.org/event/adults-activity-group-pindustry/
ATTACH;FMTTYPE=image/jpeg:https://legacychapel.org/wp-content/uploads/2023/09/download.jpg
END:VEVENT
END:VCALENDAR