BEGIN:VCALENDAR
VERSION:2.0
PRODID:-//Churches in Denver CO - ECPv6.15.20//NONSGML v1.0//EN
CALSCALE:GREGORIAN
METHOD:PUBLISH
X-ORIGINAL-URL:https://legacychapel.org
X-WR-CALDESC:Events for Churches in Denver CO
REFRESH-INTERVAL;VALUE=DURATION:PT1H
X-Robots-Tag:noindex
X-PUBLISHED-TTL:PT1H
BEGIN:VTIMEZONE
TZID:America/Denver
BEGIN:DAYLIGHT
TZOFFSETFROM:-0700
TZOFFSETTO:-0600
TZNAME:MDT
DTSTART:20210314T090000
END:DAYLIGHT
BEGIN:STANDARD
TZOFFSETFROM:-0600
TZOFFSETTO:-0700
TZNAME:MST
DTSTART:20211107T080000
END:STANDARD
BEGIN:DAYLIGHT
TZOFFSETFROM:-0700
TZOFFSETTO:-0600
TZNAME:MDT
DTSTART:20220313T090000
END:DAYLIGHT
BEGIN:STANDARD
TZOFFSETFROM:-0600
TZOFFSETTO:-0700
TZNAME:MST
DTSTART:20221106T080000
END:STANDARD
BEGIN:DAYLIGHT
TZOFFSETFROM:-0700
TZOFFSETTO:-0600
TZNAME:MDT
DTSTART:20230312T090000
END:DAYLIGHT
BEGIN:STANDARD
TZOFFSETFROM:-0600
TZOFFSETTO:-0700
TZNAME:MST
DTSTART:20231105T080000
END:STANDARD
BEGIN:DAYLIGHT
TZOFFSETFROM:-0700
TZOFFSETTO:-0600
TZNAME:MDT
DTSTART:20240310T090000
END:DAYLIGHT
BEGIN:STANDARD
TZOFFSETFROM:-0600
TZOFFSETTO:-0700
TZNAME:MST
DTSTART:20241103T080000
END:STANDARD
END:VTIMEZONE
BEGIN:VEVENT
DTSTART;TZID=America/Denver:20230827T103000
DTEND;TZID=America/Denver:20230827T120000
DTSTAMP:20260423T063252
CREATED:20190329T193407Z
LAST-MODIFIED:20230909T024123Z
UID:10001413-1693132200-1693137600@legacychapel.org
SUMMARY:Sunday Service: 10:30
DESCRIPTION:Join us on Sunday for our 10:30 AM Service!
URL:https://legacychapel.org/event/sunday-service-1030/2023-08-27/
CATEGORIES:Services
END:VEVENT
BEGIN:VEVENT
DTSTART;TZID=America/Denver:20230827T090000
DTEND;TZID=America/Denver:20230827T101500
DTSTAMP:20260423T063252
CREATED:20190305T001308Z
LAST-MODIFIED:20230909T024231Z
UID:10001102-1693126800-1693131300@legacychapel.org
SUMMARY:Sunday Service: 9am
DESCRIPTION:Join us on Sunday for our 9am Service!
URL:https://legacychapel.org/event/sunday-service-9am/2023-08-27/
CATEGORIES:Services
END:VEVENT
BEGIN:VEVENT
DTSTART;TZID=America/Denver:20230826T103000
DTEND;TZID=America/Denver:20230826T130000
DTSTAMP:20260423T063252
CREATED:20230601T055800Z
LAST-MODIFIED:20230601T055800Z
UID:10002522-1693045800-1693054800@legacychapel.org
SUMMARY:Ladies Brunch (Castle Rock)
DESCRIPTION:
URL:https://legacychapel.org/event/ladies-brunch-castle-rock/
ATTACH;FMTTYPE=image/png:https://legacychapel.org/wp-content/uploads/2022/08/5.png
END:VEVENT
BEGIN:VEVENT
DTSTART;VALUE=DATE:20230820
DTEND;VALUE=DATE:20230821
DTSTAMP:20260423T063252
CREATED:20230601T055641Z
LAST-MODIFIED:20230601T055641Z
UID:10002521-1692489600-1692575999@legacychapel.org
SUMMARY:Baptism & BBQ
DESCRIPTION:More info coming soon
URL:https://legacychapel.org/event/baptism-bbq/
END:VEVENT
BEGIN:VEVENT
DTSTART;TZID=America/Denver:20230819T120000
DTEND;TZID=America/Denver:20230819T130000
DTSTAMP:20260423T063252
CREATED:20230601T054336Z
LAST-MODIFIED:20240822T150308Z
UID:10003110-1692446400-1692450000@legacychapel.org
SUMMARY:Adopt-A-Block
DESCRIPTION:
URL:https://legacychapel.org/event/adopt-a-block/2023-08-19/
ATTACH;FMTTYPE=image/jpeg:https://legacychapel.org/wp-content/uploads/2023/05/Idlewild-Adopt-A-Block-logo-featured-1.jpg
END:VEVENT
BEGIN:VEVENT
DTSTART;TZID=America/Denver:20230810T113000
DTEND;TZID=America/Denver:20230810T130000
DTSTAMP:20260423T063252
CREATED:20230601T054801Z
LAST-MODIFIED:20230601T054801Z
UID:10002086-1691667000-1691672400@legacychapel.org
SUMMARY:Men's Lunch With Pastors
DESCRIPTION:Castle Rock \nEnglewood
URL:https://legacychapel.org/event/mens-lunch-with-pastors/2023-08-10/
ATTACH;FMTTYPE=image/png:https://legacychapel.org/wp-content/uploads/2022/08/Screen-Shot-2022-08-26-at-10.00.17-AM.png
END:VEVENT
BEGIN:VEVENT
DTSTART;TZID=America/Denver:20230803T090000
DTEND;TZID=America/Denver:20230803T130000
DTSTAMP:20260423T063252
CREATED:20230601T055556Z
LAST-MODIFIED:20230601T055556Z
UID:10002520-1691053200-1691067600@legacychapel.org
SUMMARY:Kids Summer Adventure Camp
DESCRIPTION:
URL:https://legacychapel.org/event/kids-summer-adventure-camp/2023-08-03/
ATTACH;FMTTYPE=image/png:https://legacychapel.org/wp-content/uploads/2023/05/medium_image-1675265317169.png
END:VEVENT
BEGIN:VEVENT
DTSTART;TZID=America/Denver:20230729T100000
DTEND;TZID=America/Denver:20230729T130000
DTSTAMP:20260423T063252
CREATED:20230601T055344Z
LAST-MODIFIED:20230714T042516Z
UID:10002516-1690624800-1690635600@legacychapel.org
SUMMARY:Doodles & Donuts
DESCRIPTION:Register for this event here: \nhttps://legacychapel.churchcenter.com/registrations/events/1843378 \n 
URL:https://legacychapel.org/event/doodles-donuts/
ATTACH;FMTTYPE=image/jpeg:https://legacychapel.org/wp-content/uploads/2023/05/Legacy-youth-night-1.jpg
END:VEVENT
BEGIN:VEVENT
DTSTART;TZID=America/Denver:20230721T063000
DTEND;TZID=America/Denver:20230721T210000
DTSTAMP:20260423T063252
CREATED:20230601T055119Z
LAST-MODIFIED:20230721T180114Z
UID:10002515-1689921000-1689973200@legacychapel.org
SUMMARY:Church Bonfire at Chatfield
DESCRIPTION:Click here To register and get more information
URL:https://legacychapel.org/event/church-bonfire-at-chatfield/
END:VEVENT
BEGIN:VEVENT
DTSTART;TZID=America/Denver:20230720T090000
DTEND;TZID=America/Denver:20230720T130000
DTSTAMP:20260423T063252
CREATED:20230601T054925Z
LAST-MODIFIED:20230601T060008Z
UID:10002147-1689843600-1689858000@legacychapel.org
SUMMARY:Legacy Kids Sports Camp
DESCRIPTION:
URL:https://legacychapel.org/event/legacy-kids-sports-camp/2023-07-20/
ATTACH;FMTTYPE=image/png:https://legacychapel.org/wp-content/uploads/2023/05/medium_image-1675265235442.png
END:VEVENT
BEGIN:VEVENT
DTSTART;VALUE=DATE:20230719
DTEND;VALUE=DATE:20230720
DTSTAMP:20260423T063252
CREATED:20230601T055040Z
LAST-MODIFIED:20230601T055040Z
UID:10002514-1689724800-1689811199@legacychapel.org
SUMMARY:Youth Event
DESCRIPTION:
URL:https://legacychapel.org/event/youth-event/
ATTACH;FMTTYPE=image/png:https://legacychapel.org/wp-content/uploads/2022/01/Copy-of-Copy-of-Copy-of-Copy-of-Monochromatic-Cityscape-Email-Header.png
END:VEVENT
BEGIN:VEVENT
DTSTART;VALUE=DATE:20230707
DTEND;VALUE=DATE:20230708
DTSTAMP:20260423T063252
CREATED:20230601T052608Z
LAST-MODIFIED:20230601T052608Z
UID:10001625-1688688000-1688774399@legacychapel.org
SUMMARY:Youth Ice Blocking Event
DESCRIPTION:
URL:https://legacychapel.org/event/youth-ice-blocking-event/
END:VEVENT
BEGIN:VEVENT
DTSTART;TZID=America/Denver:20230621T183000
DTEND;TZID=America/Denver:20230621T200000
DTSTAMP:20260423T063252
CREATED:20230601T053038Z
LAST-MODIFIED:20230601T053849Z
UID:10001998-1687372200-1687377600@legacychapel.org
SUMMARY:Spirit + Life Class - FAITH
DESCRIPTION:
URL:https://legacychapel.org/event/spirit-life-class-faith/2023-06-21/
ATTACH;FMTTYPE=image/png:https://legacychapel.org/wp-content/uploads/2023/05/Spirit-Life-Class-Graphics-FOR-WEBSITE.png
END:VEVENT
BEGIN:VEVENT
DTSTART;TZID=America/Denver:20230617T103000
DTEND;TZID=America/Denver:20230617T120000
DTSTAMP:20260423T063252
CREATED:20230601T054020Z
LAST-MODIFIED:20230601T054020Z
UID:10001999-1686997800-1687003200@legacychapel.org
SUMMARY:Ladies Brunch (Castlewood Canyon)
DESCRIPTION:
URL:https://legacychapel.org/event/ladies-brunch-castlewood-canyon/
ATTACH;FMTTYPE=image/png:https://legacychapel.org/wp-content/uploads/2022/08/5.png
END:VEVENT
BEGIN:VEVENT
DTSTART;TZID=America/Denver:20230615T090000
DTEND;TZID=America/Denver:20230615T130000
DTSTAMP:20260423T063252
CREATED:20230601T052847Z
LAST-MODIFIED:20230601T053816Z
UID:10001630-1686819600-1686834000@legacychapel.org
SUMMARY:Legacy Kids Art Camp
DESCRIPTION:
URL:https://legacychapel.org/event/legacy-kids-art-camp/2023-06-15/
ATTACH;FMTTYPE=image/png:https://legacychapel.org/wp-content/uploads/2023/05/medium_image-1675200622432.png
END:VEVENT
BEGIN:VEVENT
DTSTART;TZID=America/Denver:20230610T090000
DTEND;TZID=America/Denver:20230610T110000
DTSTAMP:20260423T063252
CREATED:20230601T052724Z
LAST-MODIFIED:20230601T053553Z
UID:10001626-1686387600-1686394800@legacychapel.org
SUMMARY:Men's Breakfast & Corn Hole Tournament
DESCRIPTION:
URL:https://legacychapel.org/event/mens-breakfast-corn-hole-tournament/
END:VEVENT
BEGIN:VEVENT
DTSTART;TZID=America/Denver:20230503T183000
DTEND;TZID=America/Denver:20230503T200000
DTSTAMP:20260423T063252
CREATED:20230303T174246Z
LAST-MODIFIED:20230303T174333Z
UID:10001623-1683138600-1683144000@legacychapel.org
SUMMARY:Spirit & Life Class: MARRIAGE
DESCRIPTION:Join us for an awesome Spirit & Life Class on MARRIAGE! Click the link to sign up!
URL:https://legacychapel.org/event/spirit-life-class-marriage/2023-05-03/
END:VEVENT
BEGIN:VEVENT
DTSTART;TZID=America/Denver:20230313T080000
DTEND;TZID=America/Denver:20230313T170000
DTSTAMP:20260423T063252
CREATED:20230313T181449Z
LAST-MODIFIED:20230313T181455Z
UID:10001624-1678694400-1678726800@legacychapel.org
SUMMARY:Women's Brunch
DESCRIPTION:This month the Ladies will be meeting at the Egg and I in Highlands Ranch from 10:00AM-11:30 \nClick here to stay updated on information for this event and RSVP. \nThe Egg and I\n9344 Dorchester St\, Highlands Ranch\, CO
URL:https://legacychapel.org/event/womens-brunch-3/
CATEGORIES:Events,Women's Brunch
ATTACH;FMTTYPE=image/png:https://legacychapel.org/wp-content/uploads/2022/05/3.png
END:VEVENT
BEGIN:VEVENT
DTSTART;TZID=America/Denver:20230301T180000
DTEND;TZID=America/Denver:20230301T200000
DTSTAMP:20260423T063252
CREATED:20230211T162818Z
LAST-MODIFIED:20230211T162818Z
UID:10001619-1677693600-1677700800@legacychapel.org
SUMMARY:What's Next Colorado?
DESCRIPTION:We’re excited to announce a BIG night for our CIT ministry! If you’re interested in getting more involved or just becoming more knowledgeable about the political state in Colorado\, then this event is for you! \nOn Wednesday\, March 1st at 6:00PM we’ll be discussing “What’s Next” for us as citizens in this great state and how we can win Colorado for Christ! We’ll be joined by Richard Harris and Heidi Ganahl along with Pastor Brant Epperhart. Mark your calendars and plan to be there!
URL:https://legacychapel.org/event/whats-next-colorado/
LOCATION:Legacy’s New Home\, 8140 S Holly St.\, Centennial\, 80122\, United States
ORGANIZER;CN="Legacy Chapel":MAILTO:info@legacychapel.org
END:VEVENT
BEGIN:VEVENT
DTSTART;TZID=America/Denver:20230219T160000
DTEND;TZID=America/Denver:20230219T180000
DTSTAMP:20260423T063252
CREATED:20221201T201219Z
LAST-MODIFIED:20230202T022837Z
UID:10001498-1676822400-1676829600@legacychapel.org
SUMMARY:Hang Time
DESCRIPTION:Hang Time meeting January 22nd from 4-6pm here at Legacy Chapel. Join in for games the word and fun.
URL:https://legacychapel.org/event/hang-time/2023-02-19/
CATEGORIES:hang time
ATTACH;FMTTYPE=image/png:https://legacychapel.org/wp-content/uploads/2022/01/Copy-of-Copy-of-Monochromatic-Cityscape-Email-Header-2.png
END:VEVENT
BEGIN:VEVENT
DTSTART;TZID=America/Denver:20230208T183000
DTEND;TZID=America/Denver:20230208T200000
DTSTAMP:20260423T063252
CREATED:20221201T201919Z
LAST-MODIFIED:20230131T220120Z
UID:10001618-1675881000-1675886400@legacychapel.org
SUMMARY:Spirit and Life Classes
DESCRIPTION:These classes will be mini-series of different topics ranging from Parenting\, Marriage\, Finances\, and Career just to name a few.  The purpose is to do a deeper dive into vital Biblical truths\, gain practical\, everyday application so that you live in the power and grace God designed for every believer. \nThis current set of classes will be a 4 week series on Spirit-Filled Living and the focus will be on helping believers grow and thrive in their walk with God\, their ministry to others\, and the gifts and callings God has placed in their lives. Key concepts that will be covered include: hearing God’s voice\, understanding the gifts of the Spirit and the five-fold ministry offices\, identifying your spiritual gifts\, maturing in the fruit of the Spirit\, and more. \n\n\nEveryone is welcome to attend\, whether you have completed Foundations 1 or 2. Please feel free to invite others outside of Legacy as well.\n\nREGISTER FOR CLASS HERE
URL:https://legacychapel.org/event/spirit-and-life-classes-2/2023-02-08/
ATTACH;FMTTYPE=image/png:https://legacychapel.org/wp-content/uploads/2022/11/FOUNDATIONS-CLASS-10-×-10-in.png
END:VEVENT
BEGIN:VEVENT
DTSTART;TZID=America/Denver:20230101T100000
DTEND;TZID=America/Denver:20230101T103000
DTSTAMP:20260423T063252
CREATED:20221116T045338Z
LAST-MODIFIED:20221116T045921Z
UID:10001191-1672567200-1672569000@legacychapel.org
SUMMARY:Online Service Only (New Years Day!)
DESCRIPTION:Grab your family and join us for our online service on New Years Day!
URL:https://legacychapel.org/event/online-service-only-new-years-day/
CATEGORIES:Services
ATTACH;FMTTYPE=image/png:https://legacychapel.org/wp-content/uploads/2022/11/2.png
END:VEVENT
BEGIN:VEVENT
DTSTART;TZID=America/Denver:20221225T000000
DTEND;TZID=America/Denver:20221225T235900
DTSTAMP:20260423T063252
CREATED:20221116T045226Z
LAST-MODIFIED:20221116T045759Z
UID:10001190-1671926400-1672012740@legacychapel.org
SUMMARY:Christmas Day (No Service)
DESCRIPTION:Merry Christmas! \nThere will not be service this Sunday as we celebrate Jesus in our homes!
URL:https://legacychapel.org/event/christmas-day-no-service/
ATTACH;FMTTYPE=image/png:https://legacychapel.org/wp-content/uploads/2022/11/1.png
END:VEVENT
BEGIN:VEVENT
DTSTART;TZID=America/Denver:20221224T170000
DTEND;TZID=America/Denver:20221224T180000
DTSTAMP:20260423T063252
CREATED:20221116T043018Z
LAST-MODIFIED:20221116T043018Z
UID:10001189-1671901200-1671904800@legacychapel.org
SUMMARY:5:00PM Christmas Eve Service
DESCRIPTION:Join us as we celebrate Jesus! Invite your family\, neighbors\, and friends to our candle light Christmas Eve Service. We will have two services\, one at 3:30PM and one at 5:00PM! We hope to see you there!
URL:https://legacychapel.org/event/500pm-christmas-eve-service/
CATEGORIES:Services
ATTACH;FMTTYPE=image/jpeg:https://legacychapel.org/wp-content/uploads/2022/11/Christmas-Eve-Facebook-Event-Cover.jpg
END:VEVENT
BEGIN:VEVENT
DTSTART;TZID=America/Denver:20221224T153000
DTEND;TZID=America/Denver:20221224T163000
DTSTAMP:20260423T063252
CREATED:20221116T042816Z
LAST-MODIFIED:20221116T042928Z
UID:10001188-1671895800-1671899400@legacychapel.org
SUMMARY:3:30 PM Christmas Eve Service
DESCRIPTION:Join us as we celebrate Jesus! Invite your family\, neighbors\, and friends to our candle light Christmas Eve Service. We will have two services\, one at 3:30PM and one at 5:00PM! We hope to see you there!
URL:https://legacychapel.org/event/christmas-eve-services/
ATTACH;FMTTYPE=image/jpeg:https://legacychapel.org/wp-content/uploads/2022/11/Christmas-Eve-Facebook-Event-Cover.jpg
END:VEVENT
BEGIN:VEVENT
DTSTART;TZID=America/Denver:20221210T120000
DTEND;TZID=America/Denver:20221210T150000
DTSTAMP:20260423T063252
CREATED:20221201T200451Z
LAST-MODIFIED:20221201T200456Z
UID:10001496-1670673600-1670684400@legacychapel.org
SUMMARY:Hang Time Christmas Party
DESCRIPTION:Come join us for the Hangtime Christmas Party! On Saturday\, December 10th from 12:00pm-3:00pm. This event is open to all students grades 4th-8th grade. We will meet at Legacy Chapel at 12pm and carpool to South Suburban Sports Complex for ice skating. At 1:30pm we will head back to Legacy Chapel for pizza\, games\, and a devotional. The cost is $15 per student and each student is required to have a permission waiver on file prior to the event. A copy of the permission waiver will be email to the child’s parent/guardian upon registration. This is going to be a fun event and we look forward to seeing you there! \nQuestions? Please contact Alli Nolan:alli@legacychapel.org \n  \nClick here to RSVP
URL:https://legacychapel.org/event/hang-time-christmas-party/
ATTACH;FMTTYPE=image/jpeg:https://legacychapel.org/wp-content/uploads/2022/12/unnamed-2.jpg
END:VEVENT
BEGIN:VEVENT
DTSTART;TZID=America/Denver:20221208T113000
DTEND;TZID=America/Denver:20221208T130000
DTSTAMP:20260423T063252
CREATED:20220531T061700Z
LAST-MODIFIED:20220531T064458Z
UID:10001593-1670499000-1670504400@legacychapel.org
SUMMARY:Men's Lunch in Castle Rock
DESCRIPTION:Join Pastor Kyle once a month for men’s lunch in Castle Rock. This is a great opportunity to connect with other men in the church that live in your neighborhood! \nLeader: Pastor Kyle
URL:https://legacychapel.org/event/mens-lunch-in-castle-rock/2022-12-08/
ATTACH;FMTTYPE=image/png:https://legacychapel.org/wp-content/uploads/2022/05/2.png
END:VEVENT
BEGIN:VEVENT
DTSTART;VALUE=DATE:20221201
DTEND;VALUE=DATE:20221202
DTSTAMP:20260423T063252
CREATED:20221116T050429Z
LAST-MODIFIED:20221116T053430Z
UID:10001494-1669852800-1669939199@legacychapel.org
SUMMARY:Donate Winter Clothes
DESCRIPTION:We’re partnering with the Denver Dream Center to provide warm clothes for those in need. If you would like to donate on a Sunday\, you can bring your warm clothing and drop it off in one of the bins that will be located in the Lobby!
URL:https://legacychapel.org/event/donate-winter-clothes/
ATTACH;FMTTYPE=image/jpeg:https://legacychapel.org/wp-content/uploads/2022/11/unnamed-1.jpg
END:VEVENT
BEGIN:VEVENT
DTSTART;TZID=America/Denver:20221120T110000
DTEND;TZID=America/Denver:20221120T130000
DTSTAMP:20260423T063252
CREATED:20221116T041957Z
LAST-MODIFIED:20221116T041957Z
UID:10001187-1668942000-1668949200@legacychapel.org
SUMMARY:Christmas Dcorating
DESCRIPTION:If you enjoy decorating for Christmas\, then come join our decorating team after the 10:30am service on Sunday\, November 20th. Our design team will lead the way on what goes where\, but we need some helping hands to get the job done!\n\n\n\n\n\n\n\n\n\n\n\n\n\n\n\n\n\n\n\n\n\n\n\n\n\n\n\n\n\n\n\n\n\n\n\n\n\n\n\n\n\n\n\n\n\n\n\n\n\n\n\n\n\n\n\n\n\n\n\n\n\n\n\n\n\n\n\n\n\n\n\n\n\n\n\n\n\n\n\n\n\n\n\n\n\n\n\n\n\n\n\n\n\n\n\n\n\n\n\n\n\n\n\n\n\n\n\n\n\n\n\n\n\n\n\n\n\n\n\n\n\n\n\n\n\n\n\n\n\n\n\n\n\n\n\n\n\n\n\n\n\n\n\n\n\n\n\n 
URL:https://legacychapel.org/event/christmas-dcorating/
ATTACH;FMTTYPE=image/jpeg:https://legacychapel.org/wp-content/uploads/2022/11/unnamed.jpg
END:VEVENT
BEGIN:VEVENT
DTSTART;TZID=America/Denver:20221119T100000
DTEND;TZID=America/Denver:20221119T120000
DTSTAMP:20260423T063252
CREATED:20221115T043031Z
LAST-MODIFIED:20221115T043049Z
UID:10001186-1668852000-1668859200@legacychapel.org
SUMMARY:Women's Brunch
DESCRIPTION:This Ladies Brunch Will be hosted in Castle Rock. \n10AM-12PM \nClick here to RSVP! \n  \nhttps://legacychapel.churchcenter.com/groups/groups/women-s-brunch-group \n 
URL:https://legacychapel.org/event/womens-brunch-2/
ATTACH;FMTTYPE=image/png:https://legacychapel.org/wp-content/uploads/2022/08/5.png
END:VEVENT
END:VCALENDAR